Workbook

Sheet Q3 2026
A1: Kapitalflyttar Q3 2026 – utfall per bolag
A3: Bolagsnamn | B3: Antal inflyttade försäkringar | C3: Inflyttat belopp (kr) | D3: Antal utflyttade försäkringar | E3: Utflyttat belopp (kr) | F3: Flyttar netto | G3: Kapital netto (kr)
A4: Alecta (Trad) | B4: =SUMIF(Juli!$A$4:$A$27,$A4,Juli!B$4:B$27)+SUMIF(Augusti!$A$4:$A$27,$A4,Augusti!B$4:B$27)+SUMIF(September!$A$4:$A$27,$A4,September!B$4:B$27) -> 3 | C4: =SUMIF(Juli!$A$4:$A$27,$A4,Juli!C$4:C$27)+SUMIF(Augusti!$A$4:$A$27,$A4,Augusti!C$4:C$27)+SUMIF(September!$A$4:$A$27,$A4,September!C$4:C$27) -> 1131861 | D4: =SUMIF(Juli!$A$4:$A$27,$A4,Juli!D$4:D$27)+SUMIF(Augusti!$A$4:$A$27,$A4,Augusti!D$4:D$27)+SUMIF(September!$A$4:$A$27,$A4,September!D$4:D$27) -> 8 | E4: =SUMIF(Juli!$A$4:$A$27,$A4,Juli!E$4:E$27)+SUMIF(Augusti!$A$4:$A$27,$A4,Augusti!E$4:E$27)+SUMIF(September!$A$4:$A$27,$A4,September!E$4:E$27) -> 1366417.7 | F4: =B4-D4 -> -5 | G4: =C4-E4 -> -234556.67
A5: AMF (Fond) | B5: =SUMIF(Juli!$A$4:$A$27,$A5,Juli!B$4:B$27)+SUMIF(Augusti!$A$4:$A$27,$A5,Augusti!B$4:B$27)+SUMIF(September!$A$4:$A$27,$A5,September!B$4:B$27) -> 43 | C5: =SUMIF(Juli!$A$4:$A$27,$A5,Juli!C$4:C$27)+SUMIF(Augusti!$A$4:$A$27,$A5,Augusti!C$4:C$27)+SUMIF(September!$A$4:$A$27,$A5,September!C$4:C$27) -> 7366341.4 | D5: =SUMIF(Juli!$A$4:$A$27,$A5,Juli!D$4:D$27)+SUMIF(Augusti!$A$4:$A$27,$A5,Augusti!D$4:D$27)+SUMIF(September!$A$4:$A$27,$A5,September!D$4:D$27) -> 66 | E5: =SUMIF(Juli!$A$4:$A$27,$A5,Juli!E$4:E$27)+SUMIF(Augusti!$A$4:$A$27,$A5,Augusti!E$4:E$27)+SUMIF(September!$A$4:$A$27,$A5,September!E$4:E$27) -> 15166079 | F5: =B5-D5 -> -23 | G5: =C5-E5 -> -7799737.8
A6: AMF (Trad) | B6: =SUMIF(Juli!$A$4:$A$27,$A6,Juli!B$4:B$27)+SUMIF(Augusti!$A$4:$A$27,$A6,Augusti!B$4:B$27)+SUMIF(September!$A$4:$A$27,$A6,September!B$4:B$27) -> 2 | C6: =SUMIF(Juli!$A$4:$A$27,$A6,Juli!C$4:C$27)+SUMIF(Augusti!$A$4:$A$27,$A6,Augusti!C$4:C$27)+SUMIF(September!$A$4:$A$27,$A6,September!C$4:C$27) -> 249841.3 | D6: =SUMIF(Juli!$A$4:$A$27,$A6,Juli!D$4:D$27)+SUMIF(Augusti!$A$4:$A$27,$A6,Augusti!D$4:D$27)+SUMIF(September!$A$4:$A$27,$A6,September!D$4:D$27) -> 120 | E6: =SUMIF(Juli!$A$4:$A$27,$A6,Juli!E$4:E$27)+SUMIF(Augusti!$A$4:$A$27,$A6,Augusti!E$4:E$27)+SUMIF(September!$A$4:$A$27,$A6,September!E$4:E$27) -> 22732678 | F6: =B6-D6 -> -118 | G6: =C6-E6 -> -22482836
A7: Folksam (Fond) | B7: =SUMIF(Juli!$A$4:$A$27,$A7,Juli!B$4:B$27)+SUMIF(Augusti!$A$4:$A$27,$A7,Augusti!B$4:B$27)+SUMIF(September!$A$4:$A$27,$A7,September!B$4:B$27) -> 0 | C7: =SUMIF(Juli!$A$4:$A$27,$A7,Juli!C$4:C$27)+SUMIF(Augusti!$A$4:$A$27,$A7,Augusti!C$4:C$27)+SUMIF(September!$A$4:$A$27,$A7,September!C$4:C$27) -> 0 | D7: =SUMIF(Juli!$A$4:$A$27,$A7,Juli!D$4:D$27)+SUMIF(Augusti!$A$4:$A$27,$A7,Augusti!D$4:D$27)+SUMIF(September!$A$4:$A$27,$A7,September!D$4:D$27) -> 4 | E7: =SUMIF(Juli!$A$4:$A$27,$A7,Juli!E$4:E$27)+SUMIF(Augusti!$A$4:$A$27,$A7,Augusti!E$4:E$27)+SUMIF(September!$A$4:$A$27,$A7,September!E$4:E$27) -> 1789119.3 | F7: =B7-D7 -> -4 | G7: =C7-E7 -> -1789119.3
A8: Folksam (Trad) | B8: =SUMIF(Juli!$A$4:$A$27,$A8,Juli!B$4:B$27)+SUMIF(Augusti!$A$4:$A$27,$A8,Augusti!B$4:B$27)+SUMIF(September!$A$4:$A$27,$A8,September!B$4:B$27) -> 0 | C8: =SUMIF(Juli!$A$4:$A$27,$A8,Juli!C$4:C$27)+SUMIF(Augusti!$A$4:$A$27,$A8,Augusti!C$4:C$27)+SUMIF(September!$A$4:$A$27,$A8,September!C$4:C$27) -> 0 | D8: =SUMIF(Juli!$A$4:$A$27,$A8,Juli!D$4:D$27)+SUMIF(Augusti!$A$4:$A$27,$A8,Augusti!D$4:D$27)+SUMIF(September!$A$4:$A$27,$A8,September!D$4:D$27) -> 9 | E8: =SUMIF(Juli!$A$4:$A$27,$A8,Juli!E$4:E$27)+SUMIF(Augusti!$A$4:$A$27,$A8,Augusti!E$4:E$27)+SUMIF(September!$A$4:$A$27,$A8,September!E$4:E$27) -> 890188.06 | F8: =B8-D8 -> -9 | G8: =C8-E8 -> -890188.06
A9: Folksam LO (Fond) | B9: =SUMIF(Juli!$A$4:$A$27,$A9,Juli!B$4:B$27)+SUMIF(Augusti!$A$4:$A$27,$A9,Augusti!B$4:B$27)+SUMIF(September!$A$4:$A$27,$A9,September!B$4:B$27) -> 304 | C9: =SUMIF(Juli!$A$4:$A$27,$A9,Juli!C$4:C$27)+SUMIF(Augusti!$A$4:$A$27,$A9,Augusti!C$4:C$27)+SUMIF(September!$A$4:$A$27,$A9,September!C$4:C$27) -> 60038957 | D9: =SUMIF(Juli!$A$4:$A$27,$A9,Juli!D$4:D$27)+SUMIF(Augusti!$A$4:$A$27,$A9,Augusti!D$4:D$27)+SUMIF(September!$A$4:$A$27,$A9,September!D$4:D$27) -> 48 | E9: =SUMIF(Juli!$A$4:$A$27,$A9,Juli!E$4:E$27)+SUMIF(Augusti!$A$4:$A$27,$A9,Augusti!E$4:E$27)+SUMIF(September!$A$4:$A$27,$A9,September!E$4:E$27) -> 16528138 | F9: =B9-D9 -> 256 | G9: =C9-E9 -> 43510819
A10: Futur Pension (Fond) | B10: =SUMIF(Juli!$A$4:$A$27,$A10,Juli!B$4:B$27)+SUMIF(Augusti!$A$4:$A$27,$A10,Augusti!B$4:B$27)+SUMIF(September!$A$4:$A$27,$A10,September!B$4:B$27) -> 100 | C10: =SUMIF(Juli!$A$4:$A$27,$A10,Juli!C$4:C$27)+SUMIF(Augusti!$A$4:$A$27,$A10,Augusti!C$4:C$27)+SUMIF(September!$A$4:$A$27,$A10,September!C$4:C$27) -> 29546072 | D10: =SUMIF(Juli!$A$4:$A$27,$A10,Juli!D$4:D$27)+SUMIF(Augusti!$A$4:$A$27,$A10,Augusti!D$4:D$27)+SUMIF(September!$A$4:$A$27,$A10,September!D$4:D$27) -> 23 | E10: =SUMIF(Juli!$A$4:$A$27,$A10,Juli!E$4:E$27)+SUMIF(Augusti!$A$4:$A$27,$A10,Augusti!E$4:E$27)+SUMIF(September!$A$4:$A$27,$A10,September!E$4:E$27) -> 10984296 | F10: =B10-D10 -> 77 | G10: =C10-E10 -> 18561776
A11: Handelsbanken (Fond) | B11: =SUMIF(Juli!$A$4:$A$27,$A11,Juli!B$4:B$27)+SUMIF(Augusti!$A$4:$A$27,$A11,Augusti!B$4:B$27)+SUMIF(September!$A$4:$A$27,$A11,September!B$4:B$27) -> 191 | C11: =SUMIF(Juli!$A$4:$A$27,$A11,Juli!C$4:C$27)+SUMIF(Augusti!$A$4:$A$27,$A11,Augusti!C$4:C$27)+SUMIF(September!$A$4:$A$27,$A11,September!C$4:C$27) -> 44375152 | D11: =SUMIF(Juli!$A$4:$A$27,$A11,Juli!D$4:D$27)+SUMIF(Augusti!$A$4:$A$27,$A11,Augusti!D$4:D$27)+SUMIF(September!$A$4:$A$27,$A11,September!D$4:D$27) -> 108 | E11: =SUMIF(Juli!$A$4:$A$27,$A11,Juli!E$4:E$27)+SUMIF(Augusti!$A$4:$A$27,$A11,Augusti!E$4:E$27)+SUMIF(September!$A$4:$A$27,$A11,September!E$4:E$27) -> 28938832 | F11: =B11-D11 -> 83 | G11: =C11-E11 -> 15436320
A12: Handelsbanken (Trad) | B12: =SUMIF(Juli!$A$4:$A$27,$A12,Juli!B$4:B$27)+SUMIF(Augusti!$A$4:$A$27,$A12,Augusti!B$4:B$27)+SUMIF(September!$A$4:$A$27,$A12,September!B$4:B$27) -> 0 | C12: =SUMIF(Juli!$A$4:$A$27,$A12,Juli!C$4:C$27)+SUMIF(Augusti!$A$4:$A$27,$A12,Augusti!C$4:C$27)+SUMIF(September!$A$4:$A$27,$A12,September!C$4:C$27) -> 0 | D12: =SUMIF(Juli!$A$4:$A$27,$A12,Juli!D$4:D$27)+SUMIF(Augusti!$A$4:$A$27,$A12,Augusti!D$4:D$27)+SUMIF(September!$A$4:$A$27,$A12,September!D$4:D$27) -> 1 | E12: =SUMIF(Juli!$A$4:$A$27,$A12,Juli!E$4:E$27)+SUMIF(Augusti!$A$4:$A$27,$A12,Augusti!E$4:E$27)+SUMIF(September!$A$4:$A$27,$A12,September!E$4:E$27) -> 1768.78 | F12: =B12-D12 -> -1 | G12: =C12-E12 -> -1768.78
A13: KPA (Fond) | B13: =SUMIF(Juli!$A$4:$A$27,$A13,Juli!B$4:B$27)+SUMIF(Augusti!$A$4:$A$27,$A13,Augusti!B$4:B$27)+SUMIF(September!$A$4:$A$27,$A13,September!B$4:B$27) -> 15 | C13: =SUMIF(Juli!$A$4:$A$27,$A13,Juli!C$4:C$27)+SUMIF(Augusti!$A$4:$A$27,$A13,Augusti!C$4:C$27)+SUMIF(September!$A$4:$A$27,$A13,September!C$4:C$27) -> 2519819.4 | D13: =SUMIF(Juli!$A$4:$A$27,$A13,Juli!D$4:D$27)+SUMIF(Augusti!$A$4:$A$27,$A13,Augusti!D$4:D$27)+SUMIF(September!$A$4:$A$27,$A13,September!D$4:D$27) -> 26 | E13: =SUMIF(Juli!$A$4:$A$27,$A13,Juli!E$4:E$27)+SUMIF(Augusti!$A$4:$A$27,$A13,Augusti!E$4:E$27)+SUMIF(September!$A$4:$A$27,$A13,September!E$4:E$27) -> 15943681 | F13: =B13-D13 -> -11 | G13: =C13-E13 -> -13423861
A14: KPA (Trad) | B14: =SUMIF(Juli!$A$4:$A$27,$A14,Juli!B$4:B$27)+SUMIF(Augusti!$A$4:$A$27,$A14,Augusti!B$4:B$27)+SUMIF(September!$A$4:$A$27,$A14,September!B$4:B$27) -> 19 | C14: =SUMIF(Juli!$A$4:$A$27,$A14,Juli!C$4:C$27)+SUMIF(Augusti!$A$4:$A$27,$A14,Augusti!C$4:C$27)+SUMIF(September!$A$4:$A$27,$A14,September!C$4:C$27) -> 5162051.9 | D14: =SUMIF(Juli!$A$4:$A$27,$A14,Juli!D$4:D$27)+SUMIF(Augusti!$A$4:$A$27,$A14,Augusti!D$4:D$27)+SUMIF(September!$A$4:$A$27,$A14,September!D$4:D$27) -> 1404 | E14: =SUMIF(Juli!$A$4:$A$27,$A14,Juli!E$4:E$27)+SUMIF(Augusti!$A$4:$A$27,$A14,Augusti!E$4:E$27)+SUMIF(September!$A$4:$A$27,$A14,September!E$4:E$27) -> 2.6690373e+08 | F14: =B14-D14 -> -1385 | G14: =C14-E14 -> -2.6174167e+08
A15: Länsförsäkringar (Fond) | B15: =SUMIF(Juli!$A$4:$A$27,$A15,Juli!B$4:B$27)+SUMIF(Augusti!$A$4:$A$27,$A15,Augusti!B$4:B$27)+SUMIF(September!$A$4:$A$27,$A15,September!B$4:B$27) -> 469 | C15: =SUMIF(Juli!$A$4:$A$27,$A15,Juli!C$4:C$27)+SUMIF(Augusti!$A$4:$A$27,$A15,Augusti!C$4:C$27)+SUMIF(September!$A$4:$A$27,$A15,September!C$4:C$27) -> 1.2253853e+08 | D15: =SUMIF(Juli!$A$4:$A$27,$A15,Juli!D$4:D$27)+SUMIF(Augusti!$A$4:$A$27,$A15,Augusti!D$4:D$27)+SUMIF(September!$A$4:$A$27,$A15,September!D$4:D$27) -> 46 | E15: =SUMIF(Juli!$A$4:$A$27,$A15,Juli!E$4:E$27)+SUMIF(Augusti!$A$4:$A$27,$A15,Augusti!E$4:E$27)+SUMIF(September!$A$4:$A$27,$A15,September!E$4:E$27) -> 8071134.9 | F15: =B15-D15 -> 423 | G15: =C15-E15 -> 1.144674e+08
... A27: Swedbank (Trad) | B27: =SUMIF(Juli!$A$4:$A$27,$A27,Juli!B$4:B$27)+SUMIF(Augusti!$A$4:$A$27,$A27,Augusti!B$4:B$27)+SUMIF(September!$A$4:$A$27,$A27,September!B$4:B$27) -> 0 | C27: =SUMIF(Juli!$A$4:$A$27,$A27,Juli!C$4:C$27)+SUMIF(Augusti!$A$4:$A$27,$A27,Augusti!C$4:C$27)+SUMIF(September!$A$4:$A$27,$A27,September!C$4:C$27) -> 0 | D27: =SUMIF(Juli!$A$4:$A$27,$A27,Juli!D$4:D$27)+SUMIF(Augusti!$A$4:$A$27,$A27,Augusti!D$4:D$27)+SUMIF(September!$A$4:$A$27,$A27,September!D$4:D$27) -> 43 | E27: =SUMIF(Juli!$A$4:$A$27,$A27,Juli!E$4:E$27)+SUMIF(Augusti!$A$4:$A$27,$A27,Augusti!E$4:E$27)+SUMIF(September!$A$4:$A$27,$A27,September!E$4:E$27) -> 1952713.6 | F27: =B27-D27 -> -43 | G27: =C27-E27 -> -1952713.6
A28: Totalt Q3 2026 | B28: =SUM(B4:B27) -> 2253 | C28: =SUM(C4:C27) -> 5.1376911e+08 | D28: =SUM(D4:D27) -> 2253 | E28: =SUM(E4:E27) -> 5.1376911e+08 | F28: =B28-D28 -> 0 | G28: =C28-E28 -> 0

Sheet Fördelning trad & fond
A1: Fördelning traditionell förvaltning och fondförsäkring – Q3 2026
A2: Hämtas från fliken Q3 2026.
A4: Försäkringsbolag trad | B4: Antal inflyttade försäkringar | C4: Inflyttat belopp (kr) | D4: Antal utflyttade försäkringar | E4: Utflyttat belopp (kr) | F4: Flyttar netto | G4: Kapital netto (kr)
A5: Alecta (Trad) | B5: =SUMIF('Q3 2026'!$A$4:$A$27,$A5,'Q3 2026'!B$4:B$27) -> 3 | C5: =SUMIF('Q3 2026'!$A$4:$A$27,$A5,'Q3 2026'!C$4:C$27) -> 1131861 | D5: =SUMIF('Q3 2026'!$A$4:$A$27,$A5,'Q3 2026'!D$4:D$27) -> 8 | E5: =SUMIF('Q3 2026'!$A$4:$A$27,$A5,'Q3 2026'!E$4:E$27) -> 1366417.7 | F5: =B5-D5 -> -5 | G5: =C5-E5 -> -234556.67
A6: AMF (Trad) | B6: =SUMIF('Q3 2026'!$A$4:$A$27,$A6,'Q3 2026'!B$4:B$27) -> 2 | C6: =SUMIF('Q3 2026'!$A$4:$A$27,$A6,'Q3 2026'!C$4:C$27) -> 249841.3 | D6: =SUMIF('Q3 2026'!$A$4:$A$27,$A6,'Q3 2026'!D$4:D$27) -> 120 | E6: =SUMIF('Q3 2026'!$A$4:$A$27,$A6,'Q3 2026'!E$4:E$27) -> 22732678 | F6: =B6-D6 -> -118 | G6: =C6-E6 -> -22482836
A7: Folksam (Trad) | B7: =SUMIF('Q3 2026'!$A$4:$A$27,$A7,'Q3 2026'!B$4:B$27) -> 0 | C7: =SUMIF('Q3 2026'!$A$4:$A$27,$A7,'Q3 2026'!C$4:C$27) -> 0 | D7: =SUMIF('Q3 2026'!$A$4:$A$27,$A7,'Q3 2026'!D$4:D$27) -> 9 | E7: =SUMIF('Q3 2026'!$A$4:$A$27,$A7,'Q3 2026'!E$4:E$27) -> 890188.06 | F7: =B7-D7 -> -9 | G7: =C7-E7 -> -890188.06
A8: Handelsbanken (Trad) | B8: =SUMIF('Q3 2026'!$A$4:$A$27,$A8,'Q3 2026'!B$4:B$27) -> 0 | C8: =SUMIF('Q3 2026'!$A$4:$A$27,$A8,'Q3 2026'!C$4:C$27) -> 0 | D8: =SUMIF('Q3 2026'!$A$4:$A$27,$A8,'Q3 2026'!D$4:D$27) -> 1 | E8: =SUMIF('Q3 2026'!$A$4:$A$27,$A8,'Q3 2026'!E$4:E$27) -> 1768.78 | F8: =B8-D8 -> -1 | G8: =C8-E8 -> -1768.78
A9: KPA (Trad) | B9: =SUMIF('Q3 2026'!$A$4:$A$27,$A9,'Q3 2026'!B$4:B$27) -> 19 | C9: =SUMIF('Q3 2026'!$A$4:$A$27,$A9,'Q3 2026'!C$4:C$27) -> 5162051.9 | D9: =SUMIF('Q3 2026'!$A$4:$A$27,$A9,'Q3 2026'!D$4:D$27) -> 1404 | E9: =SUMIF('Q3 2026'!$A$4:$A$27,$A9,'Q3 2026'!E$4:E$27) -> 2.6690373e+08 | F9: =B9-D9 -> -1385 | G9: =C9-E9 -> -2.6174167e+08
A10: Länsförsäkringar (Trad) | B10: =SUMIF('Q3 2026'!$A$4:$A$27,$A10,'Q3 2026'!B$4:B$27) -> 0 | C10: =SUMIF('Q3 2026'!$A$4:$A$27,$A10,'Q3 2026'!C$4:C$27) -> 0 | D10: =SUMIF('Q3 2026'!$A$4:$A$27,$A10,'Q3 2026'!D$4:D$27) -> 8 | E10: =SUMIF('Q3 2026'!$A$4:$A$27,$A10,'Q3 2026'!E$4:E$27) -> 435045.02 | F10: =B10-D10 -> -8 | G10: =C10-E10 -> -435045.02
A11: Nordea (Trad) | B11: =SUMIF('Q3 2026'!$A$4:$A$27,$A11,'Q3 2026'!B$4:B$27) -> 0 | C11: =SUMIF('Q3 2026'!$A$4:$A$27,$A11,'Q3 2026'!C$4:C$27) -> 0 | D11: =SUMIF('Q3 2026'!$A$4:$A$27,$A11,'Q3 2026'!D$4:D$27) -> 4 | E11: =SUMIF('Q3 2026'!$A$4:$A$27,$A11,'Q3 2026'!E$4:E$27) -> 196597 | F11: =B11-D11 -> -4 | G11: =C11-E11 -> -196597
A12: SEB (Trad) | B12: =SUMIF('Q3 2026'!$A$4:$A$27,$A12,'Q3 2026'!B$4:B$27) -> 0 | C12: =SUMIF('Q3 2026'!$A$4:$A$27,$A12,'Q3 2026'!C$4:C$27) -> 0 | D12: =SUMIF('Q3 2026'!$A$4:$A$27,$A12,'Q3 2026'!D$4:D$27) -> 3 | E12: =SUMIF('Q3 2026'!$A$4:$A$27,$A12,'Q3 2026'!E$4:E$27) -> 174626 | F12: =B12-D12 -> -3 | G12: =C12-E12 -> -174626
A13: Skandia (Trad) | B13: =SUMIF('Q3 2026'!$A$4:$A$27,$A13,'Q3 2026'!B$4:B$27) -> 21 | C13: =SUMIF('Q3 2026'!$A$4:$A$27,$A13,'Q3 2026'!C$4:C$27) -> 2451700.6 | D13: =SUMIF('Q3 2026'!$A$4:$A$27,$A13,'Q3 2026'!D$4:D$27) -> 25 | E13: =SUMIF('Q3 2026'!$A$4:$A$27,$A13,'Q3 2026'!E$4:E$27) -> 3255481 | F13: =B13-D13 -> -4 | G13: =C13-E13 -> -803780.38
A14: SPP (Trad) | B14: =SUMIF('Q3 2026'!$A$4:$A$27,$A14,'Q3 2026'!B$4:B$27) -> 0 | C14: =SUMIF('Q3 2026'!$A$4:$A$27,$A14,'Q3 2026'!C$4:C$27) -> 0 | D14: =SUMIF('Q3 2026'!$A$4:$A$27,$A14,'Q3 2026'!D$4:D$27) -> 8 | E14: =SUMIF('Q3 2026'!$A$4:$A$27,$A14,'Q3 2026'!E$4:E$27) -> 398843.54 | F14: =B14-D14 -> -8 | G14: =C14-E14 -> -398843.54
A15: Swedbank (Trad) | B15: =SUMIF('Q3 2026'!$A$4:$A$27,$A15,'Q3 2026'!B$4:B$27) -> 0 | C15: =SUMIF('Q3 2026'!$A$4:$A$27,$A15,'Q3 2026'!C$4:C$27) -> 0 | D15: =SUMIF('Q3 2026'!$A$4:$A$27,$A15,'Q3 2026'!D$4:D$27) -> 43 | E15: =SUMIF('Q3 2026'!$A$4:$A$27,$A15,'Q3 2026'!E$4:E$27) -> 1952713.6 | F15: =B15-D15 -> -43 | G15: =C15-E15 -> -1952713.6
A16: Totalt trad Q3 2026 | B16: =SUM(B5:B15) -> 45 | C16: =SUM(C5:C15) -> 8995454.9 | D16: =SUM(D5:D15) -> 1633 | E16: =SUM(E5:E15) -> 2.9830808e+08 | F16: =B16-D16 -> -1588 | G16: =C16-E16 -> -2.8931263e+08
A18: Försäkringsbolag fond | B18: Antal inflyttade försäkringar | C18: Inflyttat belopp (kr) | D18: Antal utflyttade försäkringar | E18: Utflyttat belopp (kr) | F18: Flyttar netto | G18: Kapital netto (kr)
A19: AMF (Fond) | B19: =SUMIF('Q3 2026'!$A$4:$A$27,$A19,'Q3 2026'!B$4:B$27) -> 43 | C19: =SUMIF('Q3 2026'!$A$4:$A$27,$A19,'Q3 2026'!C$4:C$27) -> 7366341.4 | D19: =SUMIF('Q3 2026'!$A$4:$A$27,$A19,'Q3 2026'!D$4:D$27) -> 66 | E19: =SUMIF('Q3 2026'!$A$4:$A$27,$A19,'Q3 2026'!E$4:E$27) -> 15166079 | F19: =B19-D19 -> -23 | G19: =C19-E19 -> -7799737.8
A20: Folksam (Fond) | B20: =SUMIF('Q3 2026'!$A$4:$A$27,$A20,'Q3 2026'!B$4:B$27) -> 0 | C20: =SUMIF('Q3 2026'!$A$4:$A$27,$A20,'Q3 2026'!C$4:C$27) -> 0 | D20: =SUMIF('Q3 2026'!$A$4:$A$27,$A20,'Q3 2026'!D$4:D$27) -> 4 | E20: =SUMIF('Q3 2026'!$A$4:$A$27,$A20,'Q3 2026'!E$4:E$27) -> 1789119.3 | F20: =B20-D20 -> -4 | G20: =C20-E20 -> -1789119.3
A21: Folksam LO (Fond) | B21: =SUMIF('Q3 2026'!$A$4:$A$27,$A21,'Q3 2026'!B$4:B$27) -> 304 | C21: =SUMIF('Q3 2026'!$A$4:$A$27,$A21,'Q3 2026'!C$4:C$27) -> 60038957 | D21: =SUMIF('Q3 2026'!$A$4:$A$27,$A21,'Q3 2026'!D$4:D$27) -> 48 | E21: =SUMIF('Q3 2026'!$A$4:$A$27,$A21,'Q3 2026'!E$4:E$27) -> 16528138 | F21: =B21-D21 -> 256 | G21: =C21-E21 -> 43510819
A22: Futur Pension (Fond) | B22: =SUMIF('Q3 2026'!$A$4:$A$27,$A22,'Q3 2026'!B$4:B$27) -> 100 | C22: =SUMIF('Q3 2026'!$A$4:$A$27,$A22,'Q3 2026'!C$4:C$27) -> 29546072 | D22: =SUMIF('Q3 2026'!$A$4:$A$27,$A22,'Q3 2026'!D$4:D$27) -> 23 | E22: =SUMIF('Q3 2026'!$A$4:$A$27,$A22,'Q3 2026'!E$4:E$27) -> 10984296 | F22: =B22-D22 -> 77 | G22: =C22-E22 -> 18561776
A23: Handelsbanken (Fond) | B23: =SUMIF('Q3 2026'!$A$4:$A$27,$A23,'Q3 2026'!B$4:B$27) -> 191 | C23: =SUMIF('Q3 2026'!$A$4:$A$27,$A23,'Q3 2026'!C$4:C$27) -> 44375152 | D23: =SUMIF('Q3 2026'!$A$4:$A$27,$A23,'Q3 2026'!D$4:D$27) -> 108 | E23: =SUMIF('Q3 2026'!$A$4:$A$27,$A23,'Q3 2026'!E$4:E$27) -> 28938832 | F23: =B23-D23 -> 83 | G23: =C23-E23 -> 15436320
A24: KPA (Fond) | B24: =SUMIF('Q3 2026'!$A$4:$A$27,$A24,'Q3 2026'!B$4:B$27) -> 15 | C24: =SUMIF('Q3 2026'!$A$4:$A$27,$A24,'Q3 2026'!C$4:C$27) -> 2519819.4 | D24: =SUMIF('Q3 2026'!$A$4:$A$27,$A24,'Q3 2026'!D$4:D$27) -> 26 | E24: =SUMIF('Q3 2026'!$A$4:$A$27,$A24,'Q3 2026'!E$4:E$27) -> 15943681 | F24: =B24-D24 -> -11 | G24: =C24-E24 -> -13423861
A25: Länsförsäkringar (Fond) | B25: =SUMIF('Q3 2026'!$A$4:$A$27,$A25,'Q3 2026'!B$4:B$27) -> 469 | C25: =SUMIF('Q3 2026'!$A$4:$A$27,$A25,'Q3 2026'!C$4:C$27) -> 1.2253853e+08 | D25: =SUMIF('Q3 2026'!$A$4:$A$27,$A25,'Q3 2026'!D$4:D$27) -> 46 | E25: =SUMIF('Q3 2026'!$A$4:$A$27,$A25,'Q3 2026'!E$4:E$27) -> 8071134.9 | F25: =B25-D25 -> 423 | G25: =C25-E25 -> 1.144674e+08
A26: Lärarfonder (Fond) | B26: =SUMIF('Q3 2026'!$A$4:$A$27,$A26,'Q3 2026'!B$4:B$27) -> 8 | C26: =SUMIF('Q3 2026'!$A$4:$A$27,$A26,'Q3 2026'!C$4:C$27) -> 1898811.9 | D26: =SUMIF('Q3 2026'!$A$4:$A$27,$A26,'Q3 2026'!D$4:D$27) -> 7 | E26: =SUMIF('Q3 2026'!$A$4:$A$27,$A26,'Q3 2026'!E$4:E$27) -> 4014838.8 | F26: =B26-D26 -> 1 | G26: =C26-E26 -> -2116026.9
A27: Nordea (Fond) | B27: =SUMIF('Q3 2026'!$A$4:$A$27,$A27,'Q3 2026'!B$4:B$27) -> 285 | C27: =SUMIF('Q3 2026'!$A$4:$A$27,$A27,'Q3 2026'!C$4:C$27) -> 60723069 | D27: =SUMIF('Q3 2026'!$A$4:$A$27,$A27,'Q3 2026'!D$4:D$27) -> 62 | E27: =SUMIF('Q3 2026'!$A$4:$A$27,$A27,'Q3 2026'!E$4:E$27) -> 28572287 | F27: =B27-D27 -> 223 | G27: =C27-E27 -> 32150782
A28: Nordnet (Fond) | B28: =SUMIF('Q3 2026'!$A$4:$A$27,$A28,'Q3 2026'!B$4:B$27) -> 0 | C28: =SUMIF('Q3 2026'!$A$4:$A$27,$A28,'Q3 2026'!C$4:C$27) -> 0 | D28: =SUMIF('Q3 2026'!$A$4:$A$27,$A28,'Q3 2026'!D$4:D$27) -> 0 | E28: =SUMIF('Q3 2026'!$A$4:$A$27,$A28,'Q3 2026'!E$4:E$27) -> 0 | F28: =B28-D28 -> 0 | G28: =C28-E28 -> 0
A29: SEB (Fond) | B29: =SUMIF('Q3 2026'!$A$4:$A$27,$A29,'Q3 2026'!B$4:B$27) -> 136 | C29: =SUMIF('Q3 2026'!$A$4:$A$27,$A29,'Q3 2026'!C$4:C$27) -> 32564390 | D29: =SUMIF('Q3 2026'!$A$4:$A$27,$A29,'Q3 2026'!D$4:D$27) -> 62 | E29: =SUMIF('Q3 2026'!$A$4:$A$27,$A29,'Q3 2026'!E$4:E$27) -> 18606676 | F29: =B29-D29 -> 74 | G29: =C29-E29 -> 13957715
A30: SPP (Fond) | B30: =SUMIF('Q3 2026'!$A$4:$A$27,$A30,'Q3 2026'!B$4:B$27) -> 0 | C30: =SUMIF('Q3 2026'!$A$4:$A$27,$A30,'Q3 2026'!C$4:C$27) -> 0 | D30: =SUMIF('Q3 2026'!$A$4:$A$27,$A30,'Q3 2026'!D$4:D$27) -> 59 | E30: =SUMIF('Q3 2026'!$A$4:$A$27,$A30,'Q3 2026'!E$4:E$27) -> 6080384.4 | F30: =B30-D30 -> -59 | G30: =C30-E30 -> -6080384.4
A31: Swedbank (Fond) | B31: =SUMIF('Q3 2026'!$A$4:$A$27,$A31,'Q3 2026'!B$4:B$27) -> 657 | C31: =SUMIF('Q3 2026'!$A$4:$A$27,$A31,'Q3 2026'!C$4:C$27) -> 1.4320251e+08 | D31: =SUMIF('Q3 2026'!$A$4:$A$27,$A31,'Q3 2026'!D$4:D$27) -> 109 | E31: =SUMIF('Q3 2026'!$A$4:$A$27,$A31,'Q3 2026'!E$4:E$27) -> 60765559 | F31: =B31-D31 -> 548 | G31: =C31-E31 -> 82436948
A32: Totalt fond Q3 2026 | B32: =SUM(B19:B31) -> 2208 | C32: =SUM(C19:C31) -> 5.0477365e+08 | D32: =SUM(D19:D31) -> 620 | E32: =SUM(E19:E31) -> 2.1546102e+08 | F32: =B32-D32 -> 1588 | G32: =C32-E32 -> 2.8931263e+08
A34: Totalt Q3 2026 | B34: =B16+B32 -> 2253 | C34: =C16+C32 -> 5.1376911e+08 | D34: =D16+D32 -> 2253 | E34: =E16+E32 -> 5.1376911e+08 | F34: =B34-D34 -> 0 | G34: =C34-E34 -> 0
A36: Andel av totalt
A37: Andel trad | B37: =IF(B$34=0,0,B16/B$34) -> 0.019973369 | C37: =IF(C$34=0,0,C16/C$34) -> 0.01750875 | D37: =IF(D$34=0,0,D16/D$34) -> 0.72481136 | E37: =IF(E$34=0,0,E16/E$34) -> 0.58062674
A38: Andel fond | B38: =IF(B$34=0,0,B32/B$34) -> 0.98002663 | C38: =IF(C$34=0,0,C32/C$34) -> 0.98249125 | D38: =IF(D$34=0,0,D32/D$34) -> 0.27518864 | E38: =IF(E$34=0,0,E32/E$34) -> 0.41937326

Sheet Månadsutveckling
A1: Kapitalflyttar Q3 2026 – utveckling per månad
A2: Hämtas från månadsflikarna.
A4: Nyckeltal | B4: Juli | C4: Augusti | D4: September | E4: Q3 2026
A5: Antal inflyttade försäkringar | B5: =Juli!B28 -> 1046 | C5: =Augusti!B28 -> 561 | D5: =September!B28 -> 646 | E5: =SUM(B5:D5) -> 2253
A6: Inflyttat belopp (kr) | B6: =Juli!C28 -> 2.3685264e+08 | C6: =Augusti!C28 -> 1.3863447e+08 | D6: =September!C28 -> 1.38282e+08 | E6: =SUM(B6:D6) -> 5.1376911e+08
A7: Antal utflyttade försäkringar | B7: =Juli!D28 -> 1046 | C7: =Augusti!D28 -> 561 | D7: =September!D28 -> 646 | E7: =SUM(B7:D7) -> 2253
A8: Utflyttat belopp (kr) | B8: =Juli!E28 -> 2.3685264e+08 | C8: =Augusti!E28 -> 1.3863447e+08 | D8: =September!E28 -> 1.38282e+08 | E8: =SUM(B8:D8) -> 5.1376911e+08
A9: Flyttar netto | B9: =Juli!F28 -> 0 | C9: =Augusti!F28 -> 0 | D9: =September!F28 -> 0 | E9: =SUM(B9:D9) -> 0
A10: Kapital netto (kr) | B10: =Juli!G28 -> 0 | C10: =Augusti!G28 -> 0 | D10: =September!G28 -> 0 | E10: =SUM(B10:D10) -> 0
A13: Kapital netto (kr) per bolag | B13: Juli | C13: Augusti | D13: September | E13: Q3 2026
A14: Alecta (Trad) | B14: =SUMIF(Juli!$A$4:$A$27,$A14,Juli!$G$4:$G$27) -> -2649.8 | C14: =SUMIF(Augusti!$A$4:$A$27,$A14,Augusti!$G$4:$G$27) -> 511793.33 | D14: =SUMIF(September!$A$4:$A$27,$A14,September!$G$4:$G$27) -> -743700.2 | E14: =SUM(B14:D14) -> -234556.67
A15: AMF (Fond) | B15: =SUMIF(Juli!$A$4:$A$27,$A15,Juli!$G$4:$G$27) -> -5155633.4 | C15: =SUMIF(Augusti!$A$4:$A$27,$A15,Augusti!$G$4:$G$27) -> -1656106.6 | D15: =SUMIF(September!$A$4:$A$27,$A15,September!$G$4:$G$27) -> -987997.85 | E15: =SUM(B15:D15) -> -7799737.8
A16: AMF (Trad) | B16: =SUMIF(Juli!$A$4:$A$27,$A16,Juli!$G$4:$G$27) -> -12509361 | C16: =SUMIF(Augusti!$A$4:$A$27,$A16,Augusti!$G$4:$G$27) -> -4783336.6 | D16: =SUMIF(September!$A$4:$A$27,$A16,September!$G$4:$G$27) -> -5190138.8 | E16: =SUM(B16:D16) -> -22482836
A17: Folksam (Fond) | B17: =SUMIF(Juli!$A$4:$A$27,$A17,Juli!$G$4:$G$27) -> -495033.87 | C17: =SUMIF(Augusti!$A$4:$A$27,$A17,Augusti!$G$4:$G$27) -> -343243.21 | D17: =SUMIF(September!$A$4:$A$27,$A17,September!$G$4:$G$27) -> -950842.2 | E17: =SUM(B17:D17) -> -1789119.3
A18: Folksam (Trad) | B18: =SUMIF(Juli!$A$4:$A$27,$A18,Juli!$G$4:$G$27) -> -305292.39 | C18: =SUMIF(Augusti!$A$4:$A$27,$A18,Augusti!$G$4:$G$27) -> -206730.3 | D18: =SUMIF(September!$A$4:$A$27,$A18,September!$G$4:$G$27) -> -378165.37 | E18: =SUM(B18:D18) -> -890188.06
A19: Folksam LO (Fond) | B19: =SUMIF(Juli!$A$4:$A$27,$A19,Juli!$G$4:$G$27) -> 28880028 | C19: =SUMIF(Augusti!$A$4:$A$27,$A19,Augusti!$G$4:$G$27) -> 4621976.6 | D19: =SUMIF(September!$A$4:$A$27,$A19,September!$G$4:$G$27) -> 10008814 | E19: =SUM(B19:D19) -> 43510819
A20: Futur Pension (Fond) | B20: =SUMIF(Juli!$A$4:$A$27,$A20,Juli!$G$4:$G$27) -> 3114870 | C20: =SUMIF(Augusti!$A$4:$A$27,$A20,Augusti!$G$4:$G$27) -> 6560741.9 | D20: =SUMIF(September!$A$4:$A$27,$A20,September!$G$4:$G$27) -> 8886163.8 | E20: =SUM(B20:D20) -> 18561776
A21: Handelsbanken (Fond) | B21: =SUMIF(Juli!$A$4:$A$27,$A21,Juli!$G$4:$G$27) -> 3501041.3 | C21: =SUMIF(Augusti!$A$4:$A$27,$A21,Augusti!$G$4:$G$27) -> 3610819.6 | D21: =SUMIF(September!$A$4:$A$27,$A21,September!$G$4:$G$27) -> 8324458.9 | E21: =SUM(B21:D21) -> 15436320
A22: Handelsbanken (Trad) | B22: =SUMIF(Juli!$A$4:$A$27,$A22,Juli!$G$4:$G$27) -> 0 | C22: =SUMIF(Augusti!$A$4:$A$27,$A22,Augusti!$G$4:$G$27) -> -1768.78 | D22: =SUMIF(September!$A$4:$A$27,$A22,September!$G$4:$G$27) -> 0 | E22: =SUM(B22:D22) -> -1768.78
A23: KPA (Fond) | B23: =SUMIF(Juli!$A$4:$A$27,$A23,Juli!$G$4:$G$27) -> -6159810.6 | C23: =SUMIF(Augusti!$A$4:$A$27,$A23,Augusti!$G$4:$G$27) -> -4443112.8 | D23: =SUMIF(September!$A$4:$A$27,$A23,September!$G$4:$G$27) -> -2820937.9 | E23: =SUM(B23:D23) -> -13423861
A24: KPA (Trad) | B24: =SUMIF(Juli!$A$4:$A$27,$A24,Juli!$G$4:$G$27) -> -1.1323151e+08 | C24: =SUMIF(Augusti!$A$4:$A$27,$A24,Augusti!$G$4:$G$27) -> -60691521 | D24: =SUMIF(September!$A$4:$A$27,$A24,September!$G$4:$G$27) -> -87818644 | E24: =SUM(B24:D24) -> -2.6174167e+08
A25: Länsförsäkringar (Fond) | B25: =SUMIF(Juli!$A$4:$A$27,$A25,Juli!$G$4:$G$27) -> 47891114 | C25: =SUMIF(Augusti!$A$4:$A$27,$A25,Augusti!$G$4:$G$27) -> 24882700 | D25: =SUMIF(September!$A$4:$A$27,$A25,September!$G$4:$G$27) -> 41693586 | E25: =SUM(B25:D25) -> 1.144674e+08
... A37: Swedbank (Trad) | B37: =SUMIF(Juli!$A$4:$A$27,$A37,Juli!$G$4:$G$27) -> -1183241.3 | C37: =SUMIF(Augusti!$A$4:$A$27,$A37,Augusti!$G$4:$G$27) -> -264629.28 | D37: =SUMIF(September!$A$4:$A$27,$A37,September!$G$4:$G$27) -> -504843.08 | E37: =SUM(B37:D37) -> -1952713.6
A38: Totalt | B38: =SUM(B14:B37) -> 5.3551048e-09 | C38: =SUM(C14:C37) -> -2.5611371e-09 | D38: =SUM(D14:D37) -> -1.2980308e-08 | E38: =SUM(E14:E37) -> -2.514571e-08

Sheet Juli
A1: Kapitalflyttar Juli 2026
A3: Bolagsnamn | B3: Antal inflyttade försäkringar | C3: Inflyttat belopp (kr) | D3: Antal utflyttade försäkringar | E3: Utflyttat belopp (kr) | F3: Flyttar netto | G3: Kapital netto (kr)
A4: Alecta (Trad) | B4: 1 | C4: 2598.22 | D4: 1 | E4: 5248.02 | F4: =B4-D4 -> 0 | G4: =C4-E4 -> -2649.8
A5: AMF (Fond) | B5: 16 | C5: 3029318.1 | D5: 36 | E5: 8184951.5 | F5: =B5-D5 -> -20 | G5: =C5-E5 -> -5155633.4
A6: AMF (Trad) | B6: 1 | C6: 87198.02 | D6: 64 | E6: 12596559 | F6: =B6-D6 -> -63 | G6: =C6-E6 -> -12509361
A7: Folksam (Fond) | B7: 0 | C7: 0 | D7: 2 | E7: 495033.87 | F7: =B7-D7 -> -2 | G7: =C7-E7 -> -495033.87
A8: Folksam (Trad) | B8: 0 | C8: 0 | D8: 5 | E8: 305292.39 | F8: =B8-D8 -> -5 | G8: =C8-E8 -> -305292.39
A9: Folksam LO (Fond) | B9: 166 | C9: 37022592 | D9: 26 | E9: 8142564 | F9: =B9-D9 -> 140 | G9: =C9-E9 -> 28880028
A10: Futur Pension (Fond) | B10: 36 | C10: 8862228.4 | D10: 13 | E10: 5747358.4 | F10: =B10-D10 -> 23 | G10: =C10-E10 -> 3114870
A11: Handelsbanken (Fond) | B11: 89 | C11: 17858203 | D11: 56 | E11: 14357162 | F11: =B11-D11 -> 33 | G11: =C11-E11 -> 3501041.3
A12: Handelsbanken (Trad) | B12: 0 | C12: 0 | D12: 0 | E12: 0 | F12: =B12-D12 -> 0 | G12: =C12-E12 -> 0
A13: KPA (Fond) | B13: 3 | C13: 297447.15 | D13: 12 | E13: 6457257.8 | F13: =B13-D13 -> -9 | G13: =C13-E13 -> -6159810.6
A14: KPA (Trad) | B14: 9 | C14: 2376485.2 | D14: 615 | E14: 1.1560799e+08 | F14: =B14-D14 -> -606 | G14: =C14-E14 -> -1.1323151e+08
A15: Länsförsäkringar (Fond) | B15: 205 | C15: 51853479 | D15: 22 | E15: 3962364.8 | F15: =B15-D15 -> 183 | G15: =C15-E15 -> 47891114
... A27: Swedbank (Trad) | B27: 0 | C27: 0 | D27: 22 | E27: 1183241.3 | F27: =B27-D27 -> -22 | G27: =C27-E27 -> -1183241.3
A28: Totalt Juli 2026 | B28: =SUM(B4:B27) -> 1046 | C28: =SUM(C4:C27) -> 2.3685264e+08 | D28: =SUM(D4:D27) -> 1046 | E28: =SUM(E4:E27) -> 2.3685264e+08 | F28: =B28-D28 -> 0 | G28: =C28-E28 -> 0

Sheet Augusti
A1: Kapitalflyttar Augusti 2026
A3: Bolagsnamn | B3: Antal inflyttade försäkringar | C3: Inflyttat belopp (kr) | D3: Antal utflyttade försäkringar | E3: Utflyttat belopp (kr) | F3: Flyttar netto | G3: Kapital netto (kr)
A4: Alecta (Trad) | B4: 2 | C4: 1129262.8 | D4: 3 | E4: 617469.49 | F4: =B4-D4 -> -1 | G4: =C4-E4 -> 511793.33
A5: AMF (Fond) | B5: 15 | C5: 2972336.8 | D5: 17 | E5: 4628443.3 | F5: =B5-D5 -> -2 | G5: =C5-E5 -> -1656106.6
A6: AMF (Trad) | B6: 1 | C6: 162643.28 | D6: 30 | E6: 4945979.9 | F6: =B6-D6 -> -29 | G6: =C6-E6 -> -4783336.6
A7: Folksam (Fond) | B7: 0 | C7: 0 | D7: 1 | E7: 343243.21 | F7: =B7-D7 -> -1 | G7: =C7-E7 -> -343243.21
A8: Folksam (Trad) | B8: 0 | C8: 0 | D8: 2 | E8: 206730.3 | F8: =B8-D8 -> -2 | G8: =C8-E8 -> -206730.3
A9: Folksam LO (Fond) | B9: 56 | C9: 10017095 | D9: 13 | E9: 5395118 | F9: =B9-D9 -> 43 | G9: =C9-E9 -> 4621976.6
A10: Futur Pension (Fond) | B10: 32 | C10: 9404446.1 | D10: 5 | E10: 2843704.1 | F10: =B10-D10 -> 27 | G10: =C10-E10 -> 6560741.9
A11: Handelsbanken (Fond) | B11: 48 | C11: 15367093 | D11: 40 | E11: 11756274 | F11: =B11-D11 -> 8 | G11: =C11-E11 -> 3610819.6
A12: Handelsbanken (Trad) | B12: 0 | C12: 0 | D12: 1 | E12: 1768.78 | F12: =B12-D12 -> -1 | G12: =C12-E12 -> -1768.78
A13: KPA (Fond) | B13: 7 | C13: 1887578.2 | D13: 9 | E13: 6330691 | F13: =B13-D13 -> -2 | G13: =C13-E13 -> -4443112.8
A14: KPA (Trad) | B14: 3 | C14: 2464782.1 | D14: 332 | E14: 63156303 | F14: =B14-D14 -> -329 | G14: =C14-E14 -> -60691521
A15: Länsförsäkringar (Fond) | B15: 102 | C15: 27433247 | D15: 16 | E15: 2550547.4 | F15: =B15-D15 -> 86 | G15: =C15-E15 -> 24882700
... A27: Swedbank (Trad) | B27: 0 | C27: 0 | D27: 8 | E27: 264629.28 | F27: =B27-D27 -> -8 | G27: =C27-E27 -> -264629.28
A28: Totalt Augusti 2026 | B28: =SUM(B4:B27) -> 561 | C28: =SUM(C4:C27) -> 1.3863447e+08 | D28: =SUM(D4:D27) -> 561 | E28: =SUM(E4:E27) -> 1.3863447e+08 | F28: =B28-D28 -> 0 | G28: =C28-E28 -> 0

Sheet September
A1: Kapitalflyttar September 2026
A3: Bolagsnamn | B3: Antal inflyttade försäkringar | C3: Inflyttat belopp (kr) | D3: Antal utflyttade försäkringar | E3: Utflyttat belopp (kr) | F3: Flyttar netto | G3: Kapital netto (kr)
A4: Alecta (Trad) | B4: 0 | C4: 0 | D4: 4 | E4: 743700.2 | F4: =B4-D4 -> -4 | G4: =C4-E4 -> -743700.2
A5: AMF (Fond) | B5: 12 | C5: 1364686.6 | D5: 13 | E5: 2352684.4 | F5: =B5-D5 -> -1 | G5: =C5-E5 -> -987997.85
A6: AMF (Trad) | B6: 0 | C6: 0 | D6: 26 | E6: 5190138.8 | F6: =B6-D6 -> -26 | G6: =C6-E6 -> -5190138.8
A7: Folksam (Fond) | B7: 0 | C7: 0 | D7: 1 | E7: 950842.2 | F7: =B7-D7 -> -1 | G7: =C7-E7 -> -950842.2
A8: Folksam (Trad) | B8: 0 | C8: 0 | D8: 2 | E8: 378165.37 | F8: =B8-D8 -> -2 | G8: =C8-E8 -> -378165.37
A9: Folksam LO (Fond) | B9: 82 | C9: 12999270 | D9: 9 | E9: 2990456.4 | F9: =B9-D9 -> 73 | G9: =C9-E9 -> 10008814
A10: Futur Pension (Fond) | B10: 32 | C10: 11279397 | D10: 5 | E10: 2393233.4 | F10: =B10-D10 -> 27 | G10: =C10-E10 -> 8886163.8
A11: Handelsbanken (Fond) | B11: 54 | C11: 11149855 | D11: 12 | E11: 2825396.4 | F11: =B11-D11 -> 42 | G11: =C11-E11 -> 8324458.9
A12: Handelsbanken (Trad) | B12: 0 | C12: 0 | D12: 0 | E12: 0 | F12: =B12-D12 -> 0 | G12: =C12-E12 -> 0
A13: KPA (Fond) | B13: 5 | C13: 334794.11 | D13: 5 | E13: 3155732 | F13: =B13-D13 -> 0 | G13: =C13-E13 -> -2820937.9
A14: KPA (Trad) | B14: 7 | C14: 320784.57 | D14: 457 | E14: 88139429 | F14: =B14-D14 -> -450 | G14: =C14-E14 -> -87818644
A15: Länsförsäkringar (Fond) | B15: 162 | C15: 43251808 | D15: 8 | E15: 1558222.6 | F15: =B15-D15 -> 154 | G15: =C15-E15 -> 41693586
... A27: Swedbank (Trad) | B27: 0 | C27: 0 | D27: 13 | E27: 504843.08 | F27: =B27-D27 -> -13 | G27: =C27-E27 -> -504843.08
A28: Totalt September 2026 | B28: =SUM(B4:B27) -> 646 | C28: =SUM(C4:C27) -> 1.38282e+08 | D28: =SUM(D4:D27) -> 646 | E28: =SUM(E4:E27) -> 1.38282e+08 | F28: =B28-D28 -> 0 | G28: =C28-E28 -> 0
